BEGIN:VCALENDAR
VERSION:2.0
PRODID:-//The Ultimate Experience - ECPv6.15.18//NONSGML v1.0//EN
CALSCALE:GREGORIAN
METHOD:PUBLISH
X-ORIGINAL-URL:https://www.playwithspirit.com
X-WR-CALDESC:Events for The Ultimate Experience
REFRESH-INTERVAL;VALUE=DURATION:PT1H
X-Robots-Tag:noindex
X-PUBLISHED-TTL:PT1H
BEGIN:VTIMEZONE
TZID:America/Toronto
BEGIN:DAYLIGHT
TZOFFSETFROM:-0500
TZOFFSETTO:-0400
TZNAME:EDT
DTSTART:20160313T070000
END:DAYLIGHT
BEGIN:STANDARD
TZOFFSETFROM:-0400
TZOFFSETTO:-0500
TZNAME:EST
DTSTART:20161106T060000
END:STANDARD
BEGIN:DAYLIGHT
TZOFFSETFROM:-0500
TZOFFSETTO:-0400
TZNAME:EDT
DTSTART:20170312T070000
END:DAYLIGHT
BEGIN:STANDARD
TZOFFSETFROM:-0400
TZOFFSETTO:-0500
TZNAME:EST
DTSTART:20171105T060000
END:STANDARD
BEGIN:DAYLIGHT
TZOFFSETFROM:-0500
TZOFFSETTO:-0400
TZNAME:EDT
DTSTART:20180311T070000
END:DAYLIGHT
BEGIN:STANDARD
TZOFFSETFROM:-0400
TZOFFSETTO:-0500
TZNAME:EST
DTSTART:20181104T060000
END:STANDARD
END:VTIMEZONE
BEGIN:VEVENT
DTSTART;TZID=America/Toronto:20170702T090000
DTEND;TZID=America/Toronto:20170703T160000
DTSTAMP:20260421T032118
CREATED:20170408T175604Z
LAST-MODIFIED:20180515T135840Z
UID:12702-1498986000-1499097600@www.playwithspirit.com
SUMMARY:The All-Canadian Classic
DESCRIPTION:Event Summary\n\nopen\, women’s\, junior open\, and junior women’s divisions\n2-day format\nminimum 5 to 6 games per team\nathletic therapy on-site\ncompetitive touring level\nbar and hot snacks station open ($)\nincluding all fees and taxes\, $436.76/team\n\n\nThe All-Canadian Classic\nLast year was this competitive\, single gender tournament’s inaugural year. It was attended by Worlds Champions Team Canada U20 Women’s & National Champions GT. \nReturning for a second year\, we offer competitive play at a private\, local venue on Canada’s 150th. The venue offers a bar overlooking the fields\, hot snacks station\, and change rooms. \nEnjoy Canada Day fireworks then get fired up for the All-Canadian Classic! \n  \n  \nSpace is limited for this event\, so register early! Registration Deadline: June 1\, 2017 \nFollow the event on Facebook for updates! \nSee Action Shots from the event! \nRegistration Closed\n\n\n  \nRefund Policy\nAll or some refunds will be offered until the registration deadline\, June 1\, 2017. After that date\, no refunds can be offered. \nThe Ultimate Experience Club Team Rebate Program\nWant to save a little money? Ultimate Experience Club teams will receive a 2.5% rebate on their team fees for every other team in their division that registers and attends the tournament. \nIf we get 12 teams total in the division\, we’ll add a bonus\, so it jumps to a 50% rebate on your team fees! So encourage your frenemies to come! Want to be an Ultimate Experience Club team? Contact us.
URL:https://www.playwithspirit.com/event/the-all-canadian-classic-2/
LOCATION:Fletcher’s Fields\, 2743 19th Avenue\, Markham\, Ontario\, L6C 1L7\, Canada
ATTACH;FMTTYPE=image/jpeg:https://www.playwithspirit.com/wp-content/uploads/2017/04/17155416_10151110147739999_6243243063567876970_n.jpg
END:VEVENT
END:VCALENDAR