BEGIN:VCALENDAR
VERSION:2.0
PRODID:-//The Ultimate Experience - ECPv6.15.18//NONSGML v1.0//EN
CALSCALE:GREGORIAN
METHOD:PUBLISH
X-ORIGINAL-URL:https://www.playwithspirit.com
X-WR-CALDESC:Events for The Ultimate Experience
REFRESH-INTERVAL;VALUE=DURATION:PT1H
X-Robots-Tag:noindex
X-PUBLISHED-TTL:PT1H
BEGIN:VTIMEZONE
TZID:America/Toronto
BEGIN:DAYLIGHT
TZOFFSETFROM:-0500
TZOFFSETTO:-0400
TZNAME:EDT
DTSTART:20180311T070000
END:DAYLIGHT
BEGIN:STANDARD
TZOFFSETFROM:-0400
TZOFFSETTO:-0500
TZNAME:EST
DTSTART:20181104T060000
END:STANDARD
BEGIN:DAYLIGHT
TZOFFSETFROM:-0500
TZOFFSETTO:-0400
TZNAME:EDT
DTSTART:20190310T070000
END:DAYLIGHT
BEGIN:STANDARD
TZOFFSETFROM:-0400
TZOFFSETTO:-0500
TZNAME:EST
DTSTART:20191103T060000
END:STANDARD
BEGIN:DAYLIGHT
TZOFFSETFROM:-0500
TZOFFSETTO:-0400
TZNAME:EDT
DTSTART:20200308T070000
END:DAYLIGHT
BEGIN:STANDARD
TZOFFSETFROM:-0400
TZOFFSETTO:-0500
TZNAME:EST
DTSTART:20201101T060000
END:STANDARD
END:VTIMEZONE
BEGIN:VEVENT
DTSTART;TZID=America/Toronto:20190824T090000
DTEND;TZID=America/Toronto:20190825T120000
DTSTAMP:20260423T160703
CREATED:20190729T033421Z
LAST-MODIFIED:20190729T033421Z
UID:14653-1566637200-1566734400@www.playwithspirit.com
SUMMARY:Not-ionals 2019
DESCRIPTION:Event Summary\n\n2-day format\n7 games per team\nathletic therapy on-site\ntouring-level competition\na shot at the coveted Not-ionals title!\n\n\nA Shot at the coveted Not-ionals Title\nWe thought\, “Why miss out on the fun of Nationals\, let’s have our own!” \nIf you are interested in registering a team to this tournament and have not been invited\, please let us know. \nContact Us\nRegister Now! \n\n\nSaturday Night Party\nTDB \n\n  \n 
URL:https://www.playwithspirit.com/event/not-ionals-2019/
LOCATION:Sunnybrook Park\, 1132 Leslie Street\, Toronto\, ON\, M3C 3L7\, Canada
ATTACH;FMTTYPE=image/png:https://www.playwithspirit.com/wp-content/uploads/2016/08/notionals.png
END:VEVENT
END:VCALENDAR