BEGIN:VCALENDAR
VERSION:2.0
PRODID:-//The Ultimate Experience - ECPv6.15.18//NONSGML v1.0//EN
CALSCALE:GREGORIAN
METHOD:PUBLISH
X-WR-CALNAME:The Ultimate Experience
X-ORIGINAL-URL:https://www.playwithspirit.com
X-WR-CALDESC:Events for The Ultimate Experience
REFRESH-INTERVAL;VALUE=DURATION:PT1H
X-Robots-Tag:noindex
X-PUBLISHED-TTL:PT1H
BEGIN:VTIMEZONE
TZID:America/Toronto
BEGIN:DAYLIGHT
TZOFFSETFROM:-0500
TZOFFSETTO:-0400
TZNAME:EDT
DTSTART:20160313T070000
END:DAYLIGHT
BEGIN:STANDARD
TZOFFSETFROM:-0400
TZOFFSETTO:-0500
TZNAME:EST
DTSTART:20161106T060000
END:STANDARD
BEGIN:DAYLIGHT
TZOFFSETFROM:-0500
TZOFFSETTO:-0400
TZNAME:EDT
DTSTART:20170312T070000
END:DAYLIGHT
BEGIN:STANDARD
TZOFFSETFROM:-0400
TZOFFSETTO:-0500
TZNAME:EST
DTSTART:20171105T060000
END:STANDARD
BEGIN:DAYLIGHT
TZOFFSETFROM:-0500
TZOFFSETTO:-0400
TZNAME:EDT
DTSTART:20180311T070000
END:DAYLIGHT
BEGIN:STANDARD
TZOFFSETFROM:-0400
TZOFFSETTO:-0500
TZNAME:EST
DTSTART:20181104T060000
END:STANDARD
END:VTIMEZONE
BEGIN:VEVENT
DTSTART;TZID=America/Toronto:20170401T080000
DTEND;TZID=America/Toronto:20170401T120000
DTSTAMP:20260421T121145
CREATED:20170208T173518Z
LAST-MODIFIED:20181129T131426Z
UID:12598-1491033600-1491048000@www.playwithspirit.com
SUMMARY:4v4 Foolish Fours
DESCRIPTION:Happy April Fools! \nWhile there are lots of practical jokes to be played this day\, this is not one of them! Come get the weekend started right with a quick 4-hour\, 4v4 event! \nRegister quickly (including paying!) to confirm your spot in this limited\, high-demand tournament. \nEvent Summary\n\nmixed division\n1-day\n5 40-min games per team\, with no byes\nathletic therapy on-site\nlocal tournament location\n\n\n  \nRefund PolicyWe know life happens......so\, our refund policy is quite lenient!\nBefore the registration deadline\, refunds will be handled on a case-by-base basis. Please email us. \nAfter the registration deadline\, we cannot promise any refunds but we will do our best. Email us!\nRules\nThe 4v4 Variation follows the USA Ultimate 11th Edition Rules with the following exceptions: \n\nGames are played by teams of 4 on the field with a gender ratio of 2/2 (See UC’s 2017 annoucement\, note our transgender inclusivity policy).\nThe playing field size is a rectangle shape measuring 18m x 30m. Endzones are 3m deep.\nOnly 2 pulls every game: at the beginning of the game and after halftime. Each team pulls once.\nBrick mark is set at 2m in front of the endzone line.\nAfter a point is scored\, the disc is left in the endzone at the spot in which it was caught. Play restarts in that same endzone (i.e.\, no pull after every point). The team that was scored upon checks the disc in play once the defence is ready.\nMaximum 30 second delay between points. Play resumes when either:\n\n30 seconds have elapsed\, or\nBoth teams are ready through a check.\n\n\nIf 25 seconds elapses and the offense has not put the disc in play\, then defense warns the offense and counts down from 5\, after ‘1’ has been said aloud the defense may begin to count stalls. If 25 seconds have elapsed and the defense is not ready\, then the offense warns the defense and begins to count down from 5. After ‘1’ has been said aloud\, the offense may put the disc into play.\nPlayers may only sub on and off the field between points or from an injury timeout.\n3-minute halftime at the scheduled midpoint of the game.\nTeams switch sides at the half.\nTeams have 1 timeout per half.\nA timeout lasts 60 seconds.\nBefore a game begins\, the Captains should agree on a time piece if a clock is not easily visible from the playing field.\n\n\n\n \nSold Out\n\n 
URL:https://www.playwithspirit.com/event/4v4-foolish-fours/
LOCATION:Lamport Stadium\, 1151 King St W\, Toronto\, Ontario\, M6K 1E9\, Canada
CATEGORIES:Ontario 4v4 Circuit
ATTACH;FMTTYPE=image/png:https://www.playwithspirit.com/wp-content/uploads/2017/02/foolishfours.png
END:VEVENT
END:VCALENDAR